 BEGIN:VCALENDAR
VERSION:2.0
PRODID:-//wp-events-plugin.com//7.2.3.1//EN
BEGIN:VEVENT
UID:42-416@leckhamptonhill.org.uk
DTSTART:20160328T093000Z
DTEND:20160328T160000Z
DTSTAMP:20160302T120429Z
URL:https://www.leckhamptonhill.org.uk/programme/folk-promotion-event-2/
SUMMARY:FOLK Promotion Event
DESCRIPTION:FOLK member will be manning the car parks on Leckhampton Hill t
 oday to talk to visitors about the Hill and what FOLK do\, and hopefully s
 ign up some new members.
LOCATION:Brownstones Quarry Car Park\, Hartley Lane\, Leckhampton\, United 
 Kingdom
GEO:51.859854;-2.073257
X-APPLE-STRUCTURED-LOCATION;VALUE=URI;X-ADDRESS=Hartley Lane\, Leckhampton\
 , United Kingdom;X-APPLE-RADIUS=100;X-TITLE=Brownstones Quarry Car Park:ge
 o:51.859854,-2.073257
END:VEVENT
END:VCALENDAR